BEGIN:VCALENDAR
PRODID:-//AT Content Types//AT Event//EN
VERSION:2.0
METHOD:PUBLISH
BEGIN:VEVENT
DTSTAMP:20260419T192920Z
CREATED:20210324T084848Z
UID:ATEvent-f3704b81342345199fa3c3738db4ce67
LAST-MODIFIED:20210324T084852Z
SUMMARY:Comissió Legislativa de Sanitat
DTSTART:20210413T140000Z
DTEND:20210413T140000Z
LOCATION:Nova seu Planta -3 sala de compareixences públiques
CLASS:PUBLIC
END:VEVENT
END:VCALENDAR
