BEGIN:VCALENDAR
PRODID:-//AT Content Types//AT Event//EN
VERSION:1.0
BEGIN:VEVENT
DTSTART:20210209T143000Z
DTEND:20210209T143000Z
DCREATED:20210129T124343Z
UID:ATEvent-81cadde8e2c3403a88e535d9bcb04d3d
SEQUENCE:0
LAST-MODIFIED:20210129T124428Z
SUMMARY:Comissió Legislativa de Sanitat
PRIORITY:3
TRANSP:0
END:VEVENT
END:VCALENDAR
