BEGIN:VCALENDAR
PRODID:-//AT Content Types//AT Event//EN
VERSION:1.0
BEGIN:VEVENT
DTSTART:20190605T161000Z
DTEND:20190605T164000Z
DCREATED:20190531T115954Z
UID:ATEvent-71ee3175d0f84704a0bc06eebe1f5343
SEQUENCE:0
LAST-MODIFIED:20190531T115958Z
SUMMARY:Comissió Legislativa de Sanitat
LOCATION:Nova seu Planta -3
PRIORITY:3
TRANSP:0
END:VEVENT
END:VCALENDAR
