BEGIN:VCALENDAR
PRODID:-//AT Content Types//AT Event//EN
VERSION:1.0
BEGIN:VEVENT
DTSTART:20201202T163000Z
DTEND:20201202T163000Z
DCREATED:20201127T094421Z
UID:ATEvent-061e63f0c6f646269206137ef7552773
SEQUENCE:0
LAST-MODIFIED:20201127T094425Z
SUMMARY:Comissió Legislativa de Política Territorial\, Urbanisme i Medi Ambient
PRIORITY:3
TRANSP:0
END:VEVENT
END:VCALENDAR
