BEGIN:VCALENDAR
PRODID:-//AT Content Types//AT Event//EN
VERSION:1.0
BEGIN:VEVENT
DTSTART:20241121T092000Z
DTEND:20241121T092000Z
DCREATED:20241121T092055Z
UID:ATEvent-73c6ae835d3046be80745681b8841abe
SEQUENCE:0
LAST-MODIFIED:20241121T092058Z
SUMMARY:Comissió Legislativa de Política Territorial\, Urbanisme i Medi Ambient
PRIORITY:3
TRANSP:0
END:VEVENT
END:VCALENDAR
