BEGIN:VCALENDAR
PRODID:-//AT Content Types//AT Event//EN
VERSION:1.0
BEGIN:VEVENT
DTSTART:20230118T163000Z
DTEND:20230118T163000Z
DCREATED:20230113T134904Z
UID:ATEvent-2c77de15de8e4a30beafecc879cf007a
SEQUENCE:0
LAST-MODIFIED:20230113T134908Z
SUMMARY:Comissió Legislativa de Política Territorial\, Urbanisme i Medi Ambient
LOCATION:Nova seu Planta -3 sala AB
PRIORITY:3
TRANSP:0
END:VEVENT
END:VCALENDAR
