BEGIN:VCALENDAR
PRODID:-//AT Content Types//AT Event//EN
VERSION:2.0
METHOD:PUBLISH
BEGIN:VEVENT
DTSTAMP:20260419T145601Z
CREATED:20221212T071523Z
UID:ATEvent-3faacfc996e2406885660b7bb5177a16
LAST-MODIFIED:20221212T071543Z
SUMMARY:Comissió Legislativa de Política Territorial\, Urbanisme i Medi Ambient
DTSTART:20221214T163000Z
DTEND:20221214T163000Z
LOCATION:Nova seu Planta -3 sala AB
CLASS:PUBLIC
END:VEVENT
END:VCALENDAR
