BEGIN:VCALENDAR
PRODID:-//AT Content Types//AT Event//EN
VERSION:2.0
METHOD:PUBLISH
BEGIN:VEVENT
DTSTAMP:20260423T180851Z
CREATED:20221124T123027Z
UID:ATEvent-418b839d6c29406f8b8d232d2c8e84b3
LAST-MODIFIED:20221124T123048Z
SUMMARY:Comissió Legislativa de Política Territorial\, Urbanisme i Medi Ambient
DTSTART:20221130T163000Z
DTEND:20221130T163000Z
LOCATION:Nova seu Planta -3 sala AB
CLASS:PUBLIC
END:VEVENT
END:VCALENDAR
