BEGIN:VCALENDAR
PRODID:-//AT Content Types//AT Event//EN
VERSION:1.0
BEGIN:VEVENT
DTSTART:20221123T163000Z
DTEND:20221123T163000Z
DCREATED:20221117T074428Z
UID:ATEvent-48308850646b4aab806f449d1928143a
SEQUENCE:0
LAST-MODIFIED:20221117T074432Z
SUMMARY:Comissió Legislativa de Política Territorial\, Urbanisme i Medi Ambient
LOCATION:Nova seu Planta -3 sala AB
PRIORITY:3
TRANSP:0
END:VEVENT
END:VCALENDAR
