BEGIN:VCALENDAR
PRODID:-//AT Content Types//AT Event//EN
VERSION:1.0
BEGIN:VEVENT
DTSTART:20220608T153000Z
DTEND:20220608T153000Z
DCREATED:20220602T115010Z
UID:ATEvent-ccc77f9e7f674aeab867255611bf40b8
SEQUENCE:0
LAST-MODIFIED:20220602T115147Z
SUMMARY:Comissió Legislativa de Política Territorial\, Urbanisme i Medi Ambient
PRIORITY:3
TRANSP:0
END:VEVENT
END:VCALENDAR
