BEGIN:VCALENDAR
PRODID:-//AT Content Types//AT Event//EN
VERSION:2.0
METHOD:PUBLISH
BEGIN:VEVENT
DTSTAMP:20260423T154633Z
CREATED:20210422T085251Z
UID:ATEvent-366845a3f98947d5852bf8279270f8d8
LAST-MODIFIED:20210422T085257Z
SUMMARY:Comissió Legislativa de Política Territorial\, Urbanisme i Medi Ambient
DTSTART:20210428T153000Z
DTEND:20210428T153000Z
CLASS:PUBLIC
END:VEVENT
END:VCALENDAR
