BEGIN:VCALENDAR
PRODID:-//AT Content Types//AT Event//EN
VERSION:1.0
BEGIN:VEVENT
DTSTART:20210317T163000Z
DTEND:20210317T163000Z
DCREATED:20210129T074305Z
UID:ATEvent-aafe2cc0883c48b5b401d35ff8664d6b
SEQUENCE:0
LAST-MODIFIED:20210225T200316Z
SUMMARY:Comissió Legislativa de Política Territorial\, Urbanisme i Medi Ambient
LOCATION:Nova seu Planta -3 sala de compareixences públiques
PRIORITY:3
TRANSP:0
END:VEVENT
END:VCALENDAR
