BEGIN:VCALENDAR
PRODID:-//AT Content Types//AT Event//EN
VERSION:1.0
BEGIN:VEVENT
DTSTART:20160721T090000Z
DTEND:20160721T090000Z
DCREATED:20160714T103721Z
UID:ATEvent-545918f6909d4142a0be1f9a5e4dd91e
SEQUENCE:0
LAST-MODIFIED:20160714T103725Z
SUMMARY:Comissió Legislativa de Política Territorial i Urbanisme
LOCATION:Nova seu Planta -3 sala AB
PRIORITY:3
TRANSP:0
END:VEVENT
END:VCALENDAR
