BEGIN:VCALENDAR
PRODID:-//AT Content Types//AT Event//EN
VERSION:2.0
METHOD:PUBLISH
BEGIN:VEVENT
DTSTAMP:20260419T181340Z
CREATED:20160707T121100Z
UID:ATEvent-a65bb6bb274d4911b32d3aabc813527c
LAST-MODIFIED:20160707T121118Z
SUMMARY:Comissió Legislativa de Política Territorial i Urbanisme
DTSTART:20160714T080000Z
DTEND:20160714T080000Z
LOCATION:Nova seu Planta -3 sala AB
CLASS:PUBLIC
END:VEVENT
END:VCALENDAR
