BEGIN:VCALENDAR
PRODID:-//AT Content Types//AT Event//EN
VERSION:1.0
BEGIN:VEVENT
DTSTART:20150625T130000Z
DTEND:20150625T130000Z
DCREATED:20150619T084712Z
UID:ATEvent-ebe9b2dcaf844a338250bd23795355bc
SEQUENCE:0
LAST-MODIFIED:20150619T084730Z
SUMMARY:Comissió Legislativa de Política Territorial i Urbanisme
LOCATION:Nova seu Planta -3 sala de compareixences
PRIORITY:3
TRANSP:0
END:VEVENT
END:VCALENDAR
