BEGIN:VCALENDAR
PRODID:-//AT Content Types//AT Event//EN
VERSION:2.0
METHOD:PUBLISH
BEGIN:VEVENT
DTSTAMP:20260423T122338Z
CREATED:20180313T132001Z
UID:ATEvent-40f1289fe35146c9a5ea552e50634ff5
LAST-MODIFIED:20180314T191713Z
SUMMARY:Comissió Legislativa de Política Territorial
DTSTART:20180321T143000Z
DTEND:20180321T143000Z
LOCATION:Nova seu Planta -3 sala AB
CLASS:PUBLIC
END:VEVENT
END:VCALENDAR
