BEGIN:VCALENDAR
PRODID:-//AT Content Types//AT Event//EN
VERSION:2.0
METHOD:PUBLISH
BEGIN:VEVENT
DTSTAMP:20260422T013741Z
CREATED:20250404T095519Z
UID:ATEvent-97a30fcbd9a44ec9b78684141e2fa1c2
LAST-MODIFIED:20250404T095537Z
SUMMARY:Comissió Legislativa de Política Exterior
DTSTART:20250509T093000Z
DTEND:20250509T113000Z
LOCATION:Sala de Comissions - Planta -3
CLASS:PUBLIC
END:VEVENT
END:VCALENDAR
