BEGIN:VCALENDAR
PRODID:-//AT Content Types//AT Event//EN
VERSION:2.0
METHOD:PUBLISH
BEGIN:VEVENT
DTSTAMP:20260425T150345Z
CREATED:20150520T080249Z
UID:ATEvent-bb190ba1e6b5447ba00f58a6c8427580
LAST-MODIFIED:20150527T101917Z
SUMMARY:Comissió Legislativa de Política Exterior
DTSTART:20150527T150000Z
DTEND:20150527T150000Z
LOCATION:Nova seu Planta -3 sala AB
CLASS:PUBLIC
END:VEVENT
END:VCALENDAR
