BEGIN:VCALENDAR
PRODID:-//AT Content Types//AT Event//EN
VERSION:1.0
BEGIN:VEVENT
DTSTART:20221220T163000Z
DTEND:20221220T163000Z
DCREATED:20221215T163719Z
UID:ATEvent-6a663b5957054822a8ba4a13ce35730d
SEQUENCE:0
LAST-MODIFIED:20221215T163727Z
SUMMARY:Comissió Legislativa de Política Exterior
LOCATION:Nova seu Planta -3 sala de compareixences públiques
PRIORITY:3
TRANSP:0
END:VEVENT
END:VCALENDAR
