BEGIN:VCALENDAR
PRODID:-//AT Content Types//AT Event//EN
VERSION:1.0
BEGIN:VEVENT
DTSTART:20220922T100000Z
DTEND:20220922T100000Z
DCREATED:20220912T113446Z
UID:ATEvent-3c11dc53697a42468b5fa16a0f9f8fbf
SEQUENCE:0
LAST-MODIFIED:20220912T113449Z
SUMMARY:Comissió Legislativa de Política Exterior
PRIORITY:3
TRANSP:0
END:VEVENT
END:VCALENDAR
