BEGIN:VCALENDAR
PRODID:-//AT Content Types//AT Event//EN
VERSION:1.0
BEGIN:VEVENT
DTSTART:20220407T093000Z
DTEND:20220407T093000Z
DCREATED:20220401T121838Z
UID:ATEvent-7f6698874abb4367b5b91d3b5dbde004
SEQUENCE:0
LAST-MODIFIED:20220405T095512Z
SUMMARY:Comissió Legislativa de Política Exterior
PRIORITY:3
TRANSP:0
END:VEVENT
END:VCALENDAR
