BEGIN:VCALENDAR
PRODID:-//AT Content Types//AT Event//EN
VERSION:1.0
BEGIN:VEVENT
DTSTART:20210311T110000Z
DTEND:20210311T110000Z
DCREATED:20210301T171256Z
UID:ATEvent-45bd7822380144ba8605866e977680b2
SEQUENCE:0
LAST-MODIFIED:20210301T171259Z
SUMMARY:Comissió Legislativa de Política Exterior
PRIORITY:3
TRANSP:0
END:VEVENT
END:VCALENDAR
