BEGIN:VCALENDAR
PRODID:-//AT Content Types//AT Event//EN
VERSION:2.0
METHOD:PUBLISH
BEGIN:VEVENT
DTSTAMP:20260424T121449Z
CREATED:20190131T123606Z
UID:ATEvent-7dd1ec53e1424b97a101fd74c697ad71
LAST-MODIFIED:20190131T123614Z
SUMMARY:Comissió Legislativa de Política Exterior
DTSTART:20190206T140000Z
DTEND:20190206T140000Z
LOCATION:Nova seu Planta -3 sala AB
CLASS:PUBLIC
END:VEVENT
END:VCALENDAR
