BEGIN:VCALENDAR
PRODID:-//AT Content Types//AT Event//EN
VERSION:2.0
METHOD:PUBLISH
BEGIN:VEVENT
DTSTAMP:20260421T130044Z
CREATED:20190130T102524Z
UID:ATEvent-c61214bb704d435fbbcf7857dee65ec4
LAST-MODIFIED:20190130T102526Z
SUMMARY:Comissió Legislativa de Política Exterior
DTSTART:20190130T140000Z
DTEND:20190130T140000Z
LOCATION:Nova seu Planta -3 sala AB
CLASS:PUBLIC
END:VEVENT
END:VCALENDAR
