BEGIN:VCALENDAR
PRODID:-//AT Content Types//AT Event//EN
VERSION:1.0
BEGIN:VEVENT
DTSTART:20180409T133000Z
DTEND:20180409T133000Z
DCREATED:20180403T102252Z
UID:ATEvent-3230325e63dc49c2a076f2b9032170e0
SEQUENCE:0
LAST-MODIFIED:20180403T102335Z
SUMMARY:Comissió Legislativa de Política Exterior
LOCATION:Nova seu Planta -3 sala CD
PRIORITY:3
TRANSP:0
END:VEVENT
END:VCALENDAR
