BEGIN:VCALENDAR
PRODID:-//AT Content Types//AT Event//EN
VERSION:1.0
BEGIN:VEVENT
DTSTART:20170714T080000Z
DTEND:20170714T080000Z
DCREATED:20170711T120048Z
UID:ATEvent-6c13f81dc70642b3a3901f1abd2a1de5
SEQUENCE:0
LAST-MODIFIED:20170711T120057Z
SUMMARY:Comissió Legislativa de Política Exterior
LOCATION:Nova seu Planta -3 sala AB
PRIORITY:3
TRANSP:0
END:VEVENT
END:VCALENDAR
