BEGIN:VCALENDAR
PRODID:-//AT Content Types//AT Event//EN
VERSION:1.0
BEGIN:VEVENT
DTSTART:20160525T140000Z
DTEND:20160525T140000Z
DCREATED:20160523T063706Z
UID:ATEvent-b5bb6c78dcf74e7582e76d0bbd7c5bed
SEQUENCE:0
LAST-MODIFIED:20160525T062558Z
SUMMARY:AJORNADA: Comissió Legislativa de Política Exterior
LOCATION:Nova seu Planta -3 sala AB
PRIORITY:3
TRANSP:0
END:VEVENT
END:VCALENDAR
