BEGIN:VCALENDAR
PRODID:-//AT Content Types//AT Event//EN
VERSION:1.0
BEGIN:VEVENT
DTSTART:20151118T150000Z
DTEND:20151118T150000Z
DCREATED:20151116T075203Z
UID:ATEvent-26c01f49d5904a099a9ef8c61c9930b9
SEQUENCE:0
LAST-MODIFIED:20151116T075208Z
SUMMARY:Comissió Legislativa de Política Exterior
LOCATION:Nova seu Planta -3 sala AB
PRIORITY:3
TRANSP:0
END:VEVENT
END:VCALENDAR
