BEGIN:VCALENDAR
PRODID:-//AT Content Types//AT Event//EN
VERSION:1.0
BEGIN:VEVENT
DTSTART:20221121T143000Z
DTEND:20221121T143000Z
DCREATED:20221115T085254Z
UID:ATEvent-69ede2ed427e40c980528bfc4eae4cf8
SEQUENCE:0
LAST-MODIFIED:20221115T090905Z
SUMMARY:Comissió Legislativa de Justícia\, Interior i Afers Institucionals
LOCATION:Nova seu Planta -3 sala de compareixences públiques
PRIORITY:3
TRANSP:0
END:VEVENT
END:VCALENDAR
