BEGIN:VCALENDAR
PRODID:-//AT Content Types//AT Event//EN
VERSION:1.0
BEGIN:VEVENT
DTSTART:20221107T143000Z
DTEND:20221107T143000Z
DCREATED:20221025T072120Z
UID:ATEvent-75a7bbe8324f44f593c995c86b684d4f
SEQUENCE:0
LAST-MODIFIED:20221107T093636Z
SUMMARY:Comissió Legislativa de Justícia\, Interior i Afers Institucionals
LOCATION:Nova seu Planta -3 sala AB
PRIORITY:3
TRANSP:0
END:VEVENT
END:VCALENDAR
