BEGIN:VCALENDAR
PRODID:-//AT Content Types//AT Event//EN
VERSION:1.0
BEGIN:VEVENT
DTSTART:20220919T153000Z
DTEND:20220919T153000Z
DCREATED:20220915T111309Z
UID:ATEvent-8a121513e69543c08cae1e1bd31fa21a
SEQUENCE:0
LAST-MODIFIED:20220915T111329Z
SUMMARY:Comissió Legislativa de Justícia\, Interior i Afers Institucionals
PRIORITY:3
TRANSP:0
END:VEVENT
END:VCALENDAR
