BEGIN:VCALENDAR
PRODID:-//AT Content Types//AT Event//EN
VERSION:1.0
BEGIN:VEVENT
DTSTART:20220411T141500Z
DTEND:20220411T141500Z
DCREATED:20220405T100846Z
UID:ATEvent-b44d71c4b4964c28a3a5f6be5de543b6
SEQUENCE:0
LAST-MODIFIED:20220405T100913Z
SUMMARY:Comissió Legislativa de Justícia\, Interior i Afers Institucionals
PRIORITY:3
TRANSP:0
END:VEVENT
END:VCALENDAR
