BEGIN:VCALENDAR
PRODID:-//AT Content Types//AT Event//EN
VERSION:2.0
METHOD:PUBLISH
BEGIN:VEVENT
DTSTAMP:20260421T130658Z
CREATED:20220325T133936Z
UID:ATEvent-ddca688d0a074d93b6da3f7aa4ecaf57
LAST-MODIFIED:20220325T133940Z
SUMMARY:Comissió Legislativa de Justícia\, Interior i Afers Institucionals
DTSTART:20220328T150000Z
DTEND:20220328T150000Z
CLASS:PUBLIC
END:VEVENT
END:VCALENDAR
