BEGIN:VCALENDAR
PRODID:-//AT Content Types//AT Event//EN
VERSION:1.0
BEGIN:VEVENT
DTSTART:20220321T150000Z
DTEND:20220321T150000Z
DCREATED:20220321T095835Z
UID:ATEvent-d69256f29073481eac0c5d3b6f013322
SEQUENCE:0
LAST-MODIFIED:20220321T095839Z
SUMMARY:Comissió Legislativa de Justícia\, Interior i Afers Institucionals
PRIORITY:3
TRANSP:0
END:VEVENT
END:VCALENDAR
