BEGIN:VCALENDAR
PRODID:-//AT Content Types//AT Event//EN
VERSION:1.0
BEGIN:VEVENT
DTSTART:20220307T150000Z
DTEND:20220307T150000Z
DCREATED:20220125T113646Z
UID:ATEvent-6e93ea6eef8f4e3786535f587a5b8e28
SEQUENCE:0
LAST-MODIFIED:20220125T113858Z
SUMMARY:Comissió Legislativa de Justícia\, Interior i Afers Institucionals
PRIORITY:3
TRANSP:0
END:VEVENT
END:VCALENDAR
