BEGIN:VCALENDAR
PRODID:-//AT Content Types//AT Event//EN
VERSION:1.0
BEGIN:VEVENT
DTSTART:20220110T150000Z
DTEND:20220110T150000Z
DCREATED:20220110T082758Z
UID:ATEvent-3572ac23472944298af5d1f3027ded53
SEQUENCE:0
LAST-MODIFIED:20220110T111403Z
SUMMARY:Comissió Legislativa de Justícia\, Interior i Afers Institucionals
LOCATION:Telemàtica
PRIORITY:3
TRANSP:0
END:VEVENT
END:VCALENDAR
