BEGIN:VCALENDAR
PRODID:-//AT Content Types//AT Event//EN
VERSION:2.0
METHOD:PUBLISH
BEGIN:VEVENT
DTSTAMP:20260423T170656Z
CREATED:20211026T085205Z
UID:ATEvent-d8fbf04cfc744ea5809d36cfab61fcc3
LAST-MODIFIED:20211026T085208Z
SUMMARY:Comissió Legislativa de Justícia\, Interior i Afers Institucionals
DTSTART:20211108T150000Z
DTEND:20211108T150000Z
CLASS:PUBLIC
END:VEVENT
END:VCALENDAR
