BEGIN:VCALENDAR
PRODID:-//AT Content Types//AT Event//EN
VERSION:1.0
BEGIN:VEVENT
DTSTART:20211004T144500Z
DTEND:20211004T144500Z
DCREATED:20210928T134119Z
UID:ATEvent-153b6ea03698497e9f1805934f061bde
SEQUENCE:0
LAST-MODIFIED:20210928T134147Z
SUMMARY:Comissió Legislativa de Justícia\, Interior i Afers Institucionals
PRIORITY:3
TRANSP:0
END:VEVENT
END:VCALENDAR
