BEGIN:VCALENDAR
PRODID:-//AT Content Types//AT Event//EN
VERSION:2.0
METHOD:PUBLISH
BEGIN:VEVENT
DTSTAMP:20260423T144108Z
CREATED:20221206T074443Z
UID:ATEvent-f44a3f1c23f340e4b1b7d3779509b20c
LAST-MODIFIED:20221206T074446Z
SUMMARY:Comissió Legislativa de Justícia\, Interior i Afers Institucionals
DTSTART:20221212T140000Z
DTEND:20221212T140000Z
LOCATION:Nova seu Planta -3 sala de compareixences públiques
CLASS:PUBLIC
END:VEVENT
END:VCALENDAR
