BEGIN:VCALENDAR
PRODID:-//AT Content Types//AT Event//EN
VERSION:1.0
BEGIN:VEVENT
DTSTART:20201007T140000Z
DTEND:20201007T140000Z
DCREATED:20201005T064422Z
UID:ATEvent-61888f283efd44bfa570cbc71e8fc7cf
SEQUENCE:0
LAST-MODIFIED:20201005T064506Z
SUMMARY:Comissió Legislativa de Justícia\, Interior i Afers Institucionals
PRIORITY:3
TRANSP:0
END:VEVENT
END:VCALENDAR
