BEGIN:VCALENDAR
PRODID:-//AT Content Types//AT Event//EN
VERSION:2.0
METHOD:PUBLISH
BEGIN:VEVENT
DTSTAMP:20260421T175458Z
CREATED:20140113T185405Z
UID:ATEvent-efdfa85d704f48c2bed9707c0b611e32
LAST-MODIFIED:20140124T091019Z
SUMMARY:Comissió Legislativa de Finances i Pressupost
DTSTART:20140113T150000Z
DTEND:20140113T154500Z
LOCATION:Nova seu Planta -3 Sala A
CLASS:PUBLIC
END:VEVENT
END:VCALENDAR
