BEGIN:VCALENDAR
PRODID:-//AT Content Types//AT Event//EN
VERSION:2.0
METHOD:PUBLISH
BEGIN:VEVENT
DTSTAMP:20260422T140302Z
CREATED:20171004T124353Z
UID:ATEvent-3ba527122eef44b087943e0a1b850cc3
LAST-MODIFIED:20171004T124539Z
SUMMARY:Comissió Legislativa de Finances i Pressupost
DTSTART:20171010T100000Z
DTEND:20171010T100000Z
LOCATION:Nova seu Planta -3 sala AB
CLASS:PUBLIC
END:VEVENT
END:VCALENDAR
