BEGIN:VCALENDAR
PRODID:-//AT Content Types//AT Event//EN
VERSION:1.0
BEGIN:VEVENT
DTSTART:20170920T081500Z
DTEND:20170920T081500Z
DCREATED:20170914T084802Z
UID:ATEvent-32abb55c6ab14e88bbf2907fe497bbbc
SEQUENCE:0
LAST-MODIFIED:20170914T084806Z
SUMMARY:Comissió Legislativa de Finances i Pressupost
LOCATION:Nova seu Planta -3 sala AB
PRIORITY:3
TRANSP:0
END:VEVENT
END:VCALENDAR
