BEGIN:VCALENDAR
PRODID:-//AT Content Types//AT Event//EN
VERSION:1.0
BEGIN:VEVENT
DTSTART:20170912T140000Z
DTEND:20170912T140000Z
DCREATED:20170911T131123Z
UID:ATEvent-ef7f6f9d02a04727afa3ecf7db7a62b0
SEQUENCE:0
LAST-MODIFIED:20170911T131128Z
SUMMARY:Comissió Legislativa de Finances i Pressupost
LOCATION:Nova seu Planta -3 sala AB
PRIORITY:3
TRANSP:0
END:VEVENT
END:VCALENDAR
