BEGIN:VCALENDAR
PRODID:-//AT Content Types//AT Event//EN
VERSION:1.0
BEGIN:VEVENT
DTSTART:20151124T143000Z
DTEND:20151124T143000Z
DCREATED:20151119T132326Z
UID:ATEvent-628b77c745114606b482b006bf3c01da
SEQUENCE:0
LAST-MODIFIED:20151119T132344Z
SUMMARY:Comissió Legislativa de Finances i Pressupost
LOCATION:Nova seu Planta -3 sala AB
PRIORITY:3
TRANSP:0
END:VEVENT
END:VCALENDAR
