BEGIN:VCALENDAR
PRODID:-//AT Content Types//AT Event//EN
VERSION:1.0
BEGIN:VEVENT
DTSTART:20151006T160000Z
DTEND:20151006T160000Z
DCREATED:20150924T102226Z
UID:ATEvent-029d998a226d4e979af447e139f60635
SEQUENCE:0
LAST-MODIFIED:20151005T072637Z
SUMMARY:Comissió Legislativa de Finances i Pressupost
LOCATION:Nova seu Planta -3 sala AB
PRIORITY:3
TRANSP:0
END:VEVENT
END:VCALENDAR
