BEGIN:VCALENDAR
PRODID:-//AT Content Types//AT Event//EN
VERSION:2.0
METHOD:PUBLISH
BEGIN:VEVENT
DTSTAMP:20260423T203048Z
CREATED:20150731T073732Z
UID:ATEvent-c1701cee05ba45fbbb4ee9dcced95a94
LAST-MODIFIED:20150731T073929Z
SUMMARY:Comissió Legislativa de Finances i Pressupost
DTSTART:20150907T133000Z
DTEND:20150907T133000Z
LOCATION:Nova seu Planta -3 sala AB
CLASS:PUBLIC
END:VEVENT
END:VCALENDAR
