BEGIN:VCALENDAR
PRODID:-//AT Content Types//AT Event//EN
VERSION:2.0
METHOD:PUBLISH
BEGIN:VEVENT
DTSTAMP:20260419T161458Z
CREATED:20150703T083940Z
UID:ATEvent-a9e7dcf860524975b2cf7fc3475ead11
LAST-MODIFIED:20150703T083945Z
SUMMARY:Comissió Legislativa de Finances i Pressupost
DTSTART:20150707T133000Z
DTEND:20150707T133000Z
LOCATION:Nova seu Planta -3 sala AB
CLASS:PUBLIC
END:VEVENT
END:VCALENDAR
