BEGIN:VCALENDAR
PRODID:-//AT Content Types//AT Event//EN
VERSION:1.0
BEGIN:VEVENT
DTSTART:20150616T133000Z
DTEND:20150616T133000Z
DCREATED:20150610T100540Z
UID:ATEvent-4c31e1b20c9142418e9149bd00eb817e
SEQUENCE:0
LAST-MODIFIED:20150610T101133Z
SUMMARY:Comissió Legislativa de Finances i Pressupost
LOCATION:Nova seu Planta -3 sala CD
PRIORITY:3
TRANSP:0
END:VEVENT
END:VCALENDAR
