BEGIN:VCALENDAR
PRODID:-//AT Content Types//AT Event//EN
VERSION:1.0
BEGIN:VEVENT
DTSTART:20150519T143000Z
DTEND:20150519T143000Z
DCREATED:20150513T085659Z
UID:ATEvent-f4cf6e3ae57446e286f8f45ae5c09e95
SEQUENCE:0
LAST-MODIFIED:20150513T085906Z
SUMMARY:Comissió Legislativa de Finances i Pressupost
LOCATION:Nova seu Planta -3 sala AB
PRIORITY:3
TRANSP:0
END:VEVENT
END:VCALENDAR
